BEGIN:VCALENDAR
VERSION:2.0
PRODID:https://www.industryarena.com
METHOD:PUBLISH
X-APPLE-CALENDAR-COLOR:#00406f
X-OUTLOOK-COLOR:#00406f
X-FUNAMBOL-COLOR:#00406f
CALSCALE:GREGORIAN
X-MICROSOFT-CALSCALE:GREGORIAN
X-WR-CALNAME:IndustryArena GmbH
X-WR-CALDESC:Business Netzwerk der Fertigungsindustrie
BEGIN:VEVENT
UID:INDUSTRYARENAEVENT16631
DTSTART:20201028T230000Z
SEQUENCE:0
TRANSP:OPAQUE
DTEND:20201030T230000Z
LOCATION:Parma PR
SUMMARY:MECSPE 2020
CLASS:PUBLIC
DTSTAMP:20260421T103210Z
END:VEVENT
END:VCALENDAR