BEGIN:VCALENDAR
VERSION:2.0
PRODID:https://www.industryarena.com
METHOD:PUBLISH
X-APPLE-CALENDAR-COLOR:#00406f
X-OUTLOOK-COLOR:#00406f
X-FUNAMBOL-COLOR:#00406f
CALSCALE:GREGORIAN
X-MICROSOFT-CALSCALE:GREGORIAN
X-WR-CALNAME:IndustryArena GmbH
X-WR-CALDESC:Business Netzwerk der Fertigungsindustrie
BEGIN:VEVENT
UID:INDUSTRYARENAEVENT18534
DTSTART:20230226T090000Z
SEQUENCE:0
TRANSP:OPAQUE
DTEND:20230302T170000Z
LOCATION:Düsseldorf
SUMMARY:EuroShop 2023
CLASS:PUBLIC
DTSTAMP:20260422T053505Z
END:VEVENT
END:VCALENDAR