BEGIN:VCALENDAR
VERSION:2.0
PRODID:https://www.industryarena.com
METHOD:PUBLISH
X-APPLE-CALENDAR-COLOR:#00406f
X-OUTLOOK-COLOR:#00406f
X-FUNAMBOL-COLOR:#00406f
CALSCALE:GREGORIAN
X-MICROSOFT-CALSCALE:GREGORIAN
X-WR-CALNAME:IndustryArena GmbH
X-WR-CALDESC:Business Netzwerk der Fertigungsindustrie
BEGIN:VEVENT
UID:INDUSTRYARENAEVENT18538
DTSTART:20230522T220100Z
SEQUENCE:0
TRANSP:OPAQUE
LOCATION:Linz
SUMMARY:SMART AUTOMATION AUSTRIA 2023
CLASS:PUBLIC
DESCRIPTION:Thousands of trade visitors can't be wrong: SMART Automation Au
 stria\, which takes place every two years in Linz\, is Austria's central i
 nformation hub for industrial automation.
DTSTAMP:20260422T053505Z
END:VEVENT
END:VCALENDAR