BEGIN:VCALENDAR
VERSION:2.0
PRODID:https://www.industryarena.com
METHOD:PUBLISH
X-APPLE-CALENDAR-COLOR:#00406f
X-OUTLOOK-COLOR:#00406f
X-FUNAMBOL-COLOR:#00406f
CALSCALE:GREGORIAN
X-MICROSOFT-CALSCALE:GREGORIAN
X-WR-CALNAME:IndustryArena GmbH
X-WR-CALDESC:Business Netzwerk der Fertigungsindustrie
BEGIN:VEVENT
UID:INDUSTRYARENAEVENT18546
DTSTART:20230904T220100Z
SEQUENCE:0
TRANSP:OPAQUE
DTEND:20230910T215900Z
LOCATION:Munich
SUMMARY:IAA MOBILITY 2023
CLASS:PUBLIC
DESCRIPTION:The largest and most important mobility event in the world offe
 rs manufacturers\, suppliers\, tech companies\, service providers and star
 tups a wide range of opportunities to present themselves and their service
 s to a broad international B2B and B2C audience.
DTSTAMP:20260422T053505Z
END:VEVENT
END:VCALENDAR