BEGIN:VCALENDAR
VERSION:2.0
PRODID:https://www.industryarena.com
METHOD:PUBLISH
X-APPLE-CALENDAR-COLOR:#00406f
X-OUTLOOK-COLOR:#00406f
X-FUNAMBOL-COLOR:#00406f
CALSCALE:GREGORIAN
X-MICROSOFT-CALSCALE:GREGORIAN
X-WR-CALNAME:IndustryArena GmbH
X-WR-CALDESC:Business Netzwerk der Fertigungsindustrie
BEGIN:VEVENT
UID:INDUSTRYARENAEVENT18547
DTSTART:20231017T220000Z
SEQUENCE:0
TRANSP:OPAQUE
DTEND:20231018T220000Z
LOCATION:Düsseldorf
SUMMARY:all about automation 2023
CLASS:PUBLIC
DESCRIPTION:At all about automation\, you can experience systems\, componen
 ts\, software and engineering for industrial automation and industrial com
 munication in the age of Industry 4.0. Manufacturers\, distributors and se
 rvice providers network with users from the region at all about automation
 .
DTSTAMP:20260422T053428Z
END:VEVENT
END:VCALENDAR