BEGIN:VCALENDAR
VERSION:2.0
PRODID:https://www.industryarena.com
METHOD:PUBLISH
X-APPLE-CALENDAR-COLOR:#00406f
X-OUTLOOK-COLOR:#00406f
X-FUNAMBOL-COLOR:#00406f
CALSCALE:GREGORIAN
X-MICROSOFT-CALSCALE:GREGORIAN
X-WR-CALNAME:IndustryArena GmbH
X-WR-CALDESC:Business Netzwerk der Fertigungsindustrie
BEGIN:VEVENT
UID:INDUSTRYARENAEVENT18548
DTSTART:20231111T230100Z
SEQUENCE:0
TRANSP:OPAQUE
DTEND:20231118T225900Z
LOCATION:Hannover
SUMMARY:AGRITECHNICA 2023
CLASS:PUBLIC
DTSTAMP:20260422T053428Z
END:VEVENT
END:VCALENDAR