BEGIN:VCALENDAR
VERSION:2.0
PRODID:https://www.industryarena.com
METHOD:PUBLISH
X-APPLE-CALENDAR-COLOR:#00406f
X-OUTLOOK-COLOR:#00406f
X-FUNAMBOL-COLOR:#00406f
CALSCALE:GREGORIAN
X-MICROSOFT-CALSCALE:GREGORIAN
X-WR-CALNAME:IndustryArena GmbH
X-WR-CALDESC:Business Netzwerk der Fertigungsindustrie
BEGIN:VEVENT
UID:INDUSTRYARENAEVENT23482
DTSTART:20251219T160000Z
SEQUENCE:0
TRANSP:OPAQUE
LOCATION:Erlangen
SUMMARY:Festive CNC Webinar
CLASS:PUBLIC
DESCRIPTION:Get ready for a special Christmas edition of our CNC webinars! 
 Join Chris Pollack — the famous Mr. CNC — on his YouTube channel for a
  live webcast  where we’ll design and machine a custom Christmas ornamen
 t.\\n\\nDec. 19\, Time: 11:00 Eastern  |  10:00 Central  |  8:00 Pacific  
 | 17:00 Europe (CET)
DTSTAMP:20260424T210852Z
END:VEVENT
END:VCALENDAR