BEGIN:VCALENDAR
VERSION:2.0
PRODID:https://www.industryarena.com
METHOD:PUBLISH
X-APPLE-CALENDAR-COLOR:#00406f
X-OUTLOOK-COLOR:#00406f
X-FUNAMBOL-COLOR:#00406f
CALSCALE:GREGORIAN
X-MICROSOFT-CALSCALE:GREGORIAN
X-WR-CALNAME:IndustryArena GmbH
X-WR-CALDESC:Business Netzwerk der Fertigungsindustrie
BEGIN:VEVENT
UID:INDUSTRYARENAEVENT23534
DTSTART:20260310T090000Z
SEQUENCE:0
TRANSP:OPAQUE
DTEND:20260313T160000Z
LOCATION:Utrecht
SUMMARY:TechniShow 2026
CLASS:PUBLIC
DESCRIPTION:TechniShow is the largest and most important trade fair in the 
 Benelux in the field of industrial production techniques\, processing and 
 treatment of metals\, plastics\, accessories and tools.
DTSTAMP:20260422T051239Z
END:VEVENT
END:VCALENDAR