BEGIN:VCALENDAR
VERSION:2.0
PRODID:https://www.industryarena.com
METHOD:PUBLISH
X-APPLE-CALENDAR-COLOR:#00406f
X-OUTLOOK-COLOR:#00406f
X-FUNAMBOL-COLOR:#00406f
CALSCALE:GREGORIAN
X-MICROSOFT-CALSCALE:GREGORIAN
X-WR-CALNAME:IndustryArena GmbH
X-WR-CALDESC:Business Netzwerk der Fertigungsindustrie
BEGIN:VEVENT
UID:INDUSTRYARENAEVENT23577
DTSTART:20260420T220000Z
SEQUENCE:0
TRANSP:OPAQUE
DTEND:20260424T000000Z
LOCATION:Ditzingen
SUMMARY:TRUMPF in-house exhibition – INTECH 2026
CLASS:PUBLIC
DESCRIPTION:Welcome to TRUMPF at INTECH 2026! Experience how the future tak
 es shape with innovative technologies\, smart services and expert guidance
 . Meet the people advancing innovation\, hear real success stories\, and e
 xplore the TRUMPF solutions world. The campus tour “Inside TRUMPF”\, t
 he exclusive Smart Factory tour and a panel discussion on connected roboti
 cs offer impressive insights while also providing an opportunity to exchan
 ge ideas with industry peers and take away valuable inspiration.
DTSTAMP:20260423T014338Z
END:VEVENT
END:VCALENDAR