BEGIN:VCALENDAR
VERSION:2.0
PRODID:https://www.industryarena.com
METHOD:PUBLISH
X-APPLE-CALENDAR-COLOR:#00406f
X-OUTLOOK-COLOR:#00406f
X-FUNAMBOL-COLOR:#00406f
CALSCALE:GREGORIAN
X-MICROSOFT-CALSCALE:GREGORIAN
X-WR-CALNAME:IndustryArena GmbH
X-WR-CALDESC:Business Netzwerk der Fertigungsindustrie
BEGIN:VEVENT
UID:INDUSTRYARENAEVENT23596
DTSTART:20260519T070000Z
SEQUENCE:0
TRANSP:OPAQUE
DTEND:20260522T130000Z
LOCATION:Jönköping
SUMMARY:Elmia Machine Tools 2026
CLASS:PUBLIC
DESCRIPTION:Experience the world of clamping and fixture systems and discov
 er special products from all fields of AMF clamping technology\, such as z
 ero-point clamping systems\, hydraulics\, magnetic clamping systems\, vacu
 um clamping systems and more.
DTSTAMP:20260425T235647Z
END:VEVENT
END:VCALENDAR