BEGIN:VCALENDAR
VERSION:2.0
PRODID:https://www.industryarena.com
METHOD:PUBLISH
X-APPLE-CALENDAR-COLOR:#00406f
X-OUTLOOK-COLOR:#00406f
X-FUNAMBOL-COLOR:#00406f
CALSCALE:GREGORIAN
X-MICROSOFT-CALSCALE:GREGORIAN
X-WR-CALNAME:IndustryArena GmbH
X-WR-CALDESC:Business Netzwerk der Fertigungsindustrie
BEGIN:VEVENT
UID:INDUSTRYARENAEVENT7077
DTSTART:20170530T070000Z
SEQUENCE:0
TRANSP:OPAQUE
DTEND:20170602T150000Z
LOCATION:Stuttgart
SUMMARY:Moulding Expo 2017
CLASS:PUBLIC
DESCRIPTION:Spontanously we decided to participate as an exhibitor in the M
 oulding Expo and to present our CAD / CAM Software vectorcam with the diff
 erent modules and features. 
DTSTAMP:20260419T120739Z
END:VEVENT
END:VCALENDAR