BEGIN:VCALENDAR
VERSION:2.0
PRODID:https://www.industryarena.com
METHOD:PUBLISH
X-APPLE-CALENDAR-COLOR:#00406f
X-OUTLOOK-COLOR:#00406f
X-FUNAMBOL-COLOR:#00406f
CALSCALE:GREGORIAN
X-MICROSOFT-CALSCALE:GREGORIAN
X-WR-CALNAME:IndustryArena GmbH
X-WR-CALDESC:Business Netzwerk der Fertigungsindustrie
BEGIN:VEVENT
UID:INDUSTRYARENAEVENT8065
DTSTART:20190410T220000Z
SEQUENCE:0
TRANSP:OPAQUE
DTEND:20190411T220000Z
LOCATION:Reiden
SUMMARY:Open House 2019
CLASS:PUBLIC
DESCRIPTION:When it comes to customer-specific solutions instead of standar
 d machines\, many companies rely on the competent mechanical engineering o
 f Reiden Technik AG. From the first idea to the finished machine tool\, we
  use our years of experience and know-how to work out the exact solution t
 hat the customer imagines.\\n\\nOn Thursday 11th and Friday 12th April fro
 m 09.00 - 16.00 you have the opportunity to take a look behind the scenes 
 of the machine tool manufacturer. Reiden Technik AG invites all interested
  persons to the open house exhibition in Reiden. On a one-hour tour\, all 
 doors are open so that an insight into all departments is possible.\\n\\nT
 he focus this year is on flexible automation. Very different and individua
 l automation projects are currently under construction. \\n\\nAt the end o
 f the tour - and so that you don't miss out on the cosiness - you will be 
 served with food and drinks at the end of the tour and can deepen one or t
 wo discussions with the other visitors.\\n\\nThe employees of Reiden Techn
 ik AG are pleased to present their work environment to an interested profe
 ssional audience. Come by\, you will be thrilled!\\n\\nPlease register und
 er the following link:\\n\\nhttps://www.reiden.com/en/news/registration-cu
 stomer-days.html
DTSTAMP:20260422T051958Z
END:VEVENT
END:VCALENDAR